BEGIN:VCALENDAR
VERSION:2.0
PRODID:-//Plateforme des bonnes pratiques pour l&#039;eau du grand Sud-Ouest - ECPv6.8.2//NONSGML v1.0//EN
CALSCALE:GREGORIAN
METHOD:PUBLISH
X-WR-CALNAME:Plateforme des bonnes pratiques pour l&#039;eau du grand Sud-Ouest
X-ORIGINAL-URL:https://bonnespratiques-eau.fr
X-WR-CALDESC:Évènements pour Plateforme des bonnes pratiques pour l&#039;eau du grand Sud-Ouest
REFRESH-INTERVAL;VALUE=DURATION:PT1H
X-Robots-Tag:noindex
X-PUBLISHED-TTL:PT1H
BEGIN:VTIMEZONE
TZID:Europe/Paris
BEGIN:DAYLIGHT
TZOFFSETFROM:+0100
TZOFFSETTO:+0200
TZNAME:CEST
DTSTART:20260329T010000
END:DAYLIGHT
BEGIN:STANDARD
TZOFFSETFROM:+0200
TZOFFSETTO:+0100
TZNAME:CET
DTSTART:20261025T010000
END:STANDARD
END:VTIMEZONE
BEGIN:VEVENT
DTSTART;TZID=Europe/Paris:20260610T090000
DTEND;TZID=Europe/Paris:20260610T173000
DTSTAMP:20260422T122144
CREATED:20260408T143912Z
LAST-MODIFIED:20260408T143936Z
UID:39553-1781082000-1781112600@bonnespratiques-eau.fr
SUMMARY:Conférence Comment mesurer l'adaptation au changement climatique ? - 10 JUIN 2026 (VISIO et PARIS)
DESCRIPTION:Tous les Évènements\n											\n									\n						\n						\n				\n					Conférence Comment mesurer l’adaptation au changement climatique ? – 10 JUIN 2026 (VISIO et PARIS)				\n				\n				\n					\n		\n			10/06/2026\n\n			\n				\n				\n				\n																\n															\n															\n				\n							\n			\n		\n						\n				\n									La conférence « Comment mesurer l’adaptation au changement climatique ? »\, accessible en visio\, propose d’explorer un défi central des politiques climatiques : évaluer concrètement les progrès réalisés pour adapter nos territoires aux impacts du changement climatique.   Le programme s’articulera autour de 4 sessions comprenant chacune une table-ronde (1h) précédée d’une keynote introductive (30 minutes).   Session 1 – ADAPTATION AU CHANGEMENT CLIMATIQUE : enjeux et obstacles Session 2 – RETOURS D’EXPÉRIENCE : l’adaptation à l’épreuve du terrain Session 3 – SOLUTIONS ET OUTILS : vers une boîte à outils opérationnelle Session 4 – PERSPECTIVES MULTI-ÉCHELLES : de l’international au régional\, benchmarking et politiques d’adaptation   Accéder au site								\n		\n				\n				\n					\n	\n		\n\n	\n	Ajouter au calendrier	\n		\n	\n\n		\n			\n									\n	Google Agenda\n\n									\n	iCalendar\n\n									\n	Outlook 365\n\n									\n	Outlook Live\n\n							\n		\n\n		\n	\n\n				\n				\n				\n				\n					\n	\n		\n\n				ECOLE JEUNES CHERCHEURS Défi clé WOc - 1er AU 5 JUIN 2026 (AUCH)	\n\n\n		\n	\n		La Sécheresse : Colloque 2026 de la SHF et du réseau « Les Sciences Humaines et Sociales et les enjeux de l’eau » - 15 au 18 juin 2026 (CHAMPS-SUR-MARNE)
URL:https://bonnespratiques-eau.fr/evenement/conference-comment-mesurer-ladaptation-au-changement-climatique-10-juin-2026-visio-et-paris/
LOCATION:Campus des Cordeliers\, Sorbonne Université\, PARIS 6ème
ATTACH;FMTTYPE=image/jpeg:https://bonnespratiques-eau.fr/wp-content/uploads/2026/04/image.jpg
END:VEVENT
END:VCALENDAR