BEGIN:VCALENDAR
VERSION:2.0
PRODID:-//Plateforme des bonnes pratiques pour l&#039;eau du grand Sud-Ouest - ECPv6.8.2//NONSGML v1.0//EN
CALSCALE:GREGORIAN
METHOD:PUBLISH
X-WR-CALNAME:Plateforme des bonnes pratiques pour l&#039;eau du grand Sud-Ouest
X-ORIGINAL-URL:https://bonnespratiques-eau.fr
X-WR-CALDESC:Évènements pour Plateforme des bonnes pratiques pour l&#039;eau du grand Sud-Ouest
REFRESH-INTERVAL;VALUE=DURATION:PT1H
X-Robots-Tag:noindex
X-PUBLISHED-TTL:PT1H
BEGIN:VTIMEZONE
TZID:Europe/Paris
BEGIN:DAYLIGHT
TZOFFSETFROM:+0100
TZOFFSETTO:+0200
TZNAME:CEST
DTSTART:20260329T010000
END:DAYLIGHT
BEGIN:STANDARD
TZOFFSETFROM:+0200
TZOFFSETTO:+0100
TZNAME:CET
DTSTART:20261025T010000
END:STANDARD
END:VTIMEZONE
BEGIN:VEVENT
DTSTART;VALUE=DATE:20260706
DTEND;VALUE=DATE:20260711
DTSTAMP:20260420T122019
CREATED:20260213T134608Z
LAST-MODIFIED:20260415T130900Z
UID:38650-1783296000-1783727999@bonnespratiques-eau.fr
SUMMARY:ÉCOLE OUVERTE ONEWATER - 6 au 10 juillet 2026 (SÈTE)
DESCRIPTION:Tous les Évènements\n											\n									\n						\n						\n				\n					ÉCOLE OUVERTE ONEWATER – 6 au 10 juillet 2026 (SÈTE)				\n				\n				\n					\n		\n			06/07/2026\n\n		\n	\n	  -  \n\n\n	10/07/2026\n\n	\n				\n				\n				\n																														\n				\n							\n			\n		\n						\n				\n									Le programme OneWater-Eau Bien Commun organise une école ouverte à Sète du 6 au 10 juillet 2026. Elle sera dédiée à la formation et à la construction partagée d’une culture OneWater de l’eau\, dans une approche résolument interdisciplinaire.   ⚠️ Places limitées – Sélection sur dossier\, à déposer avant le 18 mai. Accéder au site								\n		\n				\n				\n					\n	\n		\n\n	\n	Ajouter au calendrier	\n		\n	\n\n		\n			\n									\n	Google Agenda\n\n									\n	iCalendar\n\n									\n	Outlook 365\n\n									\n	Outlook Live\n\n							\n		\n\n		\n	\n\n				\n				\n				\n				\n					\n	\n		\n\n				La Sécheresse : Colloque 2026 de la SHF et du réseau « Les Sciences Humaines et Sociales et les enjeux de l’eau » - 15 au 18 juin 2026 (CHAMPS-SUR-MARNE)
URL:https://bonnespratiques-eau.fr/evenement/ecole-ouverte-onewater-6-au-10-juillet-2026-sete/
LOCATION:Sète
ATTACH;FMTTYPE=image/jpeg:https://bonnespratiques-eau.fr/wp-content/uploads/2026/02/onewtarer-ecole-ouverte-2026.jpg
END:VEVENT
END:VCALENDAR